{
 "currentVersion": 11.5,
 "cimVersion": "3.5.0",
 "serviceDescription": "",
 "mapName": "Layers",
 "description": "",
 "copyrightText": "",
 "supportsDynamicLayers": true,
 "layers": [
  {
   "id": 0,
   "name": "CBPA",
   "parentLayerId": -1,
   "defaultVisibility": true,
   "subLayerIds": null,
   "minScale": 0,
   "maxScale": 0,
   "type": "Feature Layer",
   "geometryType": "esriGeometryPolygon",
   "supportsDynamicLegends": true
  }
 ],
 "tables": [],
 "spatialReference": {
  "wkid": 102747,
  "latestWkid": 2284,
  "xyTolerance": 2.560000002384187E-4,
  "zTolerance": 2,
  "mTolerance": 0.001,
  "falseX": -111140600,
  "falseY": -91532100,
  "xyUnits": 3.672703675085654E7,
  "falseZ": 0,
  "zUnits": 1,
  "falseM": -100000,
  "mUnits": 10000
 },
 "singleFusedMapCache": true,
 "tileInfo": {
  "rows": 256,
  "cols": 256,
  "dpi": 96,
  "format": "MIXED",
  "compressionQuality": 75,
  "origin": {
   "x": -111140600,
   "y": 153715000
  },
  "spatialReference": {
   "wkid": 102747,
   "latestWkid": 2284,
   "xyTolerance": 2.560000002384187E-4,
   "zTolerance": 2,
   "mTolerance": 0.001,
   "falseX": -111140600,
   "falseY": -91532100,
   "xyUnits": 3.672703675085654E7,
   "falseZ": 0,
   "zUnits": 1,
   "falseM": -100000,
   "mUnits": 10000
  },
  "lods": [
   {
    "level": 0,
    "resolution": 69.44444444444444,
    "scale": 80000
   },
   {
    "level": 1,
    "resolution": 43.40277777777778,
    "scale": 50000
   },
   {
    "level": 2,
    "resolution": 8.680555555555555,
    "scale": 10000
   },
   {
    "level": 3,
    "resolution": 4.340277777777778,
    "scale": 5000
   },
   {
    "level": 4,
    "resolution": 2.6041666666666665,
    "scale": 3000
   },
   {
    "level": 5,
    "resolution": 1.0850694444444444,
    "scale": 1250
   },
   {
    "level": 6,
    "resolution": 0.8680555555555555,
    "scale": 1000
   },
   {
    "level": 7,
    "resolution": 0.6944444444444444,
    "scale": 800
   },
   {
    "level": 8,
    "resolution": 0.43402777777777773,
    "scale": 500
   },
   {
    "level": 9,
    "resolution": 0.21701388888888887,
    "scale": 250
   }
  ]
 },
 "storageInfo": {
  "storageFormat": "esriMapCacheStorageModeCompactV2",
  "packetSize": 128
 },
 "initialExtent": {
  "xmin": 1.2001387153308956E7,
  "ymin": 3475586.0942915548,
  "xmax": 1.2283340838729711E7,
  "ymax": 3581943.3072730545,
  "spatialReference": {
   "wkid": 102747,
   "latestWkid": 2284,
   "xyTolerance": 2.560000002384187E-4,
   "zTolerance": 2,
   "mTolerance": 0.001,
   "falseX": -111140600,
   "falseY": -91532100,
   "xyUnits": 3.672703675085654E7,
   "falseZ": 0,
   "zUnits": 1,
   "falseM": -100000,
   "mUnits": 10000
  }
 },
 "fullExtent": {
  "xmin": 1.2116084281450853E7,
  "ymin": 3465938.4136687815,
  "xmax": 1.2161387755797058E7,
  "ymax": 3519926.7700710595,
  "spatialReference": {
   "wkid": 102747,
   "latestWkid": 2284,
   "xyTolerance": 2.560000002384187E-4,
   "zTolerance": 2,
   "mTolerance": 0.001,
   "falseX": -111140600,
   "falseY": -91532100,
   "xyUnits": 3.672703675085654E7,
   "falseZ": 0,
   "zUnits": 1,
   "falseM": -100000,
   "mUnits": 10000
  }
 },
 "datesInUnknownTimezone": false,
 "minScale": 80000,
 "maxScale": 250,
 "units": "esriFeet",
 "supportedImageFormatTypes": "PNG32,PNG24,PNG,JPG,DIB,TIFF,EMF,PS,PDF,GIF,SVG,SVGZ,BMP",
 "documentInfo": {
  "Title": "",
  "Author": "",
  "Comments": "",
  "Subject": "",
  "Category": "",
  "Version": "10.1",
  "AntialiasingMode": "None",
  "TextAntialiasingMode": "Force",
  "Keywords": ""
 },
 "supportsQueryDomains": true,
 "capabilities": "Map,Query,Data",
 "supportedQueryFormats": "JSON, geoJSON, PBF",
 "hasVersionedData": true,
 "exportTilesAllowed": false,
 "referenceScale": 0.0,
 "datumTransformations": [
  {
   "geoTransforms": [
    {
     "wkid": 108001,
     "latestWkid": 1241,
     "transformForward": true,
     "name": "NAD_1927_To_NAD_1983_NADCON"
    }
   ]
  },
  {
   "geoTransforms": [
    {
     "wkid": 108001,
     "latestWkid": 1241,
     "transformForward": false,
     "name": "NAD_1927_To_NAD_1983_NADCON"
    }
   ]
  }
 ],
 "supportsDatumTransformation": true,
 "archivingInfo": {
  "supportsHistoricMoment": false
 },
 "supportsClipping": true,
 "supportsSpatialFilter": true,
 "supportsTimeRelation": true,
 "supportsQueryDataElements": true,
 "mapUnits": {
  "uwkid": 9003
 },
 "maxSelectionCount": 2000,
 "maxRecordCount": 1000,
 "maxImageHeight": 4096,
 "maxImageWidth": 4096,
 "supportedExtensions": "KmlServer"
}
